BEGIN:VCALENDAR
METHOD:PUBLISH
VERSION:2.0
PRODID:-//Eventilla iCal Syndication//NONSGML Liana//EN
BEGIN:VEVENT
UID:xGPJ6@eventilla.com
DTSTAMP:20230605T060000Z
DTSTART:20230605T060000Z
DTEND:20230609T110000Z
SUMMARY:HGK Leiri 1
DESCRIPTION:Leiri 1\nAjankohta:     5.6.2021 - 9.6.2021\, klo 9.00 -14.00 päivittäin.\nPaikka:          HGK\, Talin Puistotie 12\, 00380 Helsinki\nHinta:            259 €\nMukaan otetaan max 30 junioria. Mikäli paikat ovat jo täynnä\, voit ilmoittautua jonotuslistalle.\nLeiri maksetaan heti ilmoittautumisen yhteydessä.
LOCATION:HGK\, Talin Puistotie 12\, 00380\, Helsinki
URL:http://ilmoittaudu.helsingingolfklubi.fi/event/xGPJ6
END:VEVENT
END:VCALENDAR
