BEGIN:VCALENDAR
METHOD:PUBLISH
VERSION:2.0
PRODID:-//Eventilla iCal Syndication//NONSGML Liana//EN
BEGIN:VEVENT
UID:n6E7g@eventilla.com
DTSTAMP:20240617T060000Z
DTSTART:20240617T060000Z
DTEND:20240619T110000Z
SUMMARY:HGK Leiri 3
DESCRIPTION:Leiri 3\nAjankohta:     17.6.2024 - 19.6.2024\, klo 9.00 -14.00 päivittäin.\nPaikka:          HGK\, Talin Puistotie 12\, 00380 Helsinki\nHinta:            189 €\nMukaan otetaan max 30 junioria. Mikäli paikat ovat jo täynnä\, voit ilmoittautua jonotuslistalle.\nLeiri maksetaan heti ilmoittautumisen yhteydessä.\nLeiriohjelma\n9.00 Nimenhuuto9.00–11.00 treenit rangella & lähipelialueella11.00–12.00 lounas Talin Kartanolla12.00–14.00 treenit\, pieniä kisoja\nLeirin viimeinen päivä on pelipäivä jolloin leiriläiset pelaavat kentällä joko Talissa tai par3-kentällä. Par 3 kentälle on linja-autokuljetus. Pelipaikka varmistuu kevään aikana.
LOCATION:HGK\, Talin Puistotie 12\, 00380\, Helsinki
URL:http://ilmoittaudu.helsingingolfklubi.fi/event/n6E7g
END:VEVENT
END:VCALENDAR
